BEGIN:VCALENDAR
VERSION:2.0
PRODID:events.europeanpirates.eu/2026/03/france-municipal-elections-V8UlDmI
 8Zd0W
BEGIN:VEVENT
UID:V8UlDmI8Zd0W-1772609763@events.europeanpirates.eu
DTSTART;VALUE=DATE:20260322
SEQUENCE:0
TRANSP:OPAQUE
DTEND;VALUE=DATE:20260323
URL:http://events.europeanpirates.eu/2026/03/france-municipal-elections-V8U
 lDmI8Zd0W
LOCATION:France
SUMMARY:France municipal elections
CLASS:PUBLIC
DESCRIPTION:\n\n\n\nhttp://events.europeanpirates.eu/2026/03/france-municip
 al-elections-V8UlDmI8Zd0W
X-MICROSOFT-CDO-ALLDAYEVENT:TRUE
X-MICROSOFT-CDO-BUSYSTATUS:FREE
X-MICROSOFT-CDO-INTENDEDSTATUS:FREE
DTSTAMP:20260304T073134Z
CREATED:20260304T073134Z
LAST-MODIFIED:20260304T073603Z
END:VEVENT
END:VCALENDAR