BEGIN:VCALENDAR
VERSION:2.0
PRODID:events.europeanpirates.eu/2026/10/think-twice-conference-e2C47OUghO2
 o
BEGIN:VEVENT
UID:e2C47OUghO2o-1774954683@events.europeanpirates.eu
DTSTART;VALUE=DATE:20261016
SEQUENCE:0
TRANSP:OPAQUE
DTEND;VALUE=DATE:20261018
URL:http://events.europeanpirates.eu/2026/10/think-twice-conference-e2C47OU
 ghO2o
LOCATION:Brussels\, Belgium
SUMMARY:Think Twice Conference
CLASS:PUBLIC
DESCRIPTION:Today\, AI is deeply embedded in public life. Governments are b
 eginning to use AI to automate services\, support decisions\, detect anoma
 lies\, and manage resources. These tools can improve efficiency and transp
 arency\, but they can also create new risks: biased data\, opaque systems\
 , concentrated power\, cyber vulnerabilities\, and the erosion of trust.\n
 \n\n\nhttp://events.europeanpirates.eu/2026/10/think-twice-conference-e2C4
 7OUghO2o
X-MICROSOFT-CDO-ALLDAYEVENT:TRUE
X-MICROSOFT-CDO-BUSYSTATUS:FREE
X-MICROSOFT-CDO-INTENDEDSTATUS:FREE
DTSTAMP:20260331T105742Z
CREATED:20260331T105742Z
LAST-MODIFIED:20260331T105803Z
END:VEVENT
END:VCALENDAR